BEGIN:VCALENDAR
VERSION:2.0
PRODID:-//ChamberMaster//Event Calendar 2.0//EN
METHOD:PUBLISH
X-PUBLISHED-TTL:P3D
REFRESH-INTERVAL:P3D
CALSCALE:GREGORIAN
BEGIN:VEVENT
DTSTART:20150620T120000Z
DTEND:20150620T130000Z
X-MICROSOFT-CDO-ALLDAYEVENT:FALSE
SUMMARY:Zumba Master Class
DESCRIPTION:Saturday\, June 20th\, 2015\n\n8-9am\n\nSaratoga Bridges Administrative Building located at 16 Saratoga Bridges Blvd.\, Ballston Spa\, NY   12020\n\n \n\nZumba Master Class\n\nInstructor: Ami Rickert\n\nSponsored by Saratoga Bridges Wellness Committee\n\n$5 Walk In Fee
X-ALT-DESC;FMTTYPE=text/html:<span style="font-size: medium\;"><span style="font-family: calibri\;">Saturday\, June 20<sup><span style="font-size: small\;">th</span></sup>\, 2015</span></span><br />\n<span style="font-size: medium\;"><span style="font-family: calibri\;">8-9am</span></span><br />\n<span style="font-size: medium\;"><span style="font-family: calibri\;">Saratoga Bridges Administrative Building located at 16 Saratoga Bridges Blvd.\, Ballston Spa\, NY&nbsp\;&nbsp\; 12020</span></span><br />\n&nbsp\;<br />\n<span style="font-size: medium\;"><span style="font-family: calibri\;">Zumba Master Class</span></span><br />\n<span style="font-size: medium\;"><span style="font-family: calibri\;">Instructor: Ami Rickert</span></span><br />\n<span style="font-size: medium\;"><span style="font-family: calibri\;">Sponsored by Saratoga Bridges Wellness Committee</span></span><br />\n<span style="font-size: medium\;"><span style="font-family: calibri\;">$5 Walk In Fee</span></span><br />\n&nbsp\;
LOCATION:Saratoga Bridges Administrative Building located at 16 Saratoga Bridges Blvd.\, Ballston Spa\, NY 12020
UID:e.2254.9608
SEQUENCE:3
DTSTAMP:20260423T070302Z
URL:http://saratogatourism-gzcms.preview.gochambermaster.com/events/details/zumba-master-class-06-20-2015-9608
END:VEVENT

END:VCALENDAR
