BEGIN:VCALENDAR
VERSION:2.0
PRODID:-//ChamberMaster//Event Calendar 2.0//EN
METHOD:PUBLISH
X-PUBLISHED-TTL:P3D
REFRESH-INTERVAL:P3D
CALSCALE:GREGORIAN
BEGIN:VEVENT
DTSTART:20150815T150000Z
DTEND:20150815T170000Z
X-MICROSOFT-CDO-ALLDAYEVENT:FALSE
SUMMARY:Yaddo Garden Tours
DESCRIPTION:Garden tours only include the gardens and sharing the history of the Trask family\, the mansion and the history of the Yaddo Gardens.  The aura\, spirituality and creative energy that permeates Yaddo is discussed.\n\nDocent-led tours begin at 11:00am\, Saturdays and Sundays\, June 13th\,2015 through September 6th\,2015 and Tuesdays during the racing season (no tour on Travers Day).  We meet at the main fountain near the entrance gate to the garden. Tours last about one hour. Cost is $10.00 per person.  Private docent-led garden tours maybe arranged at a date and time Convenient to a group.  For more information \, contact Yaddo at 518-584-0746 or www.yaddo.org.
X-ALT-DESC;FMTTYPE=text/html:<p><span style='font-family: "Calibri"\,"sans-serif"\;'><font color="#000000" size="3">Garden tours only include the gardens and sharing the history of the Trask family\, the mansion and the history of the Yaddo Gardens.&nbsp\; The aura\,</font></span><font color="#000000" face="Times New Roman" size="3"> </font><font size="3"><font color="#000000"><span style='font-family: "Calibri"\,"sans-serif"\;'>spirituality and creative energy that permeates Yaddo is discussed.</span><o:p></o:p></font></font></p>\n\n<p><span style='font-family: "Calibri"\,"sans-serif"\;'><font color="#000000" size="3">Docent-led tours begin at 11:00am\, Saturdays and Sundays\, June 13</font><sup><font color="#000000" size="2">th</font></sup><font color="#000000" size="3">\,2015 through September 6</font><sup><font color="#000000" size="2">th</font></sup><font color="#000000" size="3">\,2015 and Tuesdays during the racing season (no tour on Travers Day).&nbsp\; We meet at the main fountain near the entrance gate to the garden. Tours last about one hour. Cost is $10.00 per person.&nbsp\; Private docent-led garden tours maybe arranged at a date and time Convenient to a group.&nbsp\; For more information \, contact Yaddo at 518-584-0746 or</font></span><font color="#000000" face="Times New Roman" size="3"> </font><a href="http://www.yaddo.org/"><span style='font-family: "Calibri"\,"sans-serif"\;'><font color="#0000ff" size="3">www.yaddo.org</font></span></a><font size="3"><font color="#000000"><span style='font-family: "Calibri"\,"sans-serif"\;'>.</span><o:p></o:p></font></font></p>\n
LOCATION:Yaddo Gardens Union Avenue\, Saratoga Springs
UID:e.2254.8651
SEQUENCE:3
DTSTAMP:20260423T014410Z
URL:http://saratogatourism-gzcms.preview.gochambermaster.com/events/details/yaddo-garden-tours-08-15-2015-8651
END:VEVENT

END:VCALENDAR
