BEGIN:VCALENDAR
VERSION:2.0
PRODID:-//ChamberMaster//Event Calendar 2.0//EN
METHOD:PUBLISH
X-PUBLISHED-TTL:P3D
REFRESH-INTERVAL:P3D
CALSCALE:GREGORIAN
BEGIN:VEVENT
DTSTART:20151017T130000Z
DTEND:20151017T200000Z
X-MICROSOFT-CDO-ALLDAYEVENT:FALSE
SUMMARY:Writing & Living on the Threshold
DESCRIPTION:Karen Hering\, author of 'Writing to Wake the Soul: Opening the Sacred Conversation Within\,' leads this one-day workshop. Designed for people who write often as well as for those who are new to reflective writing\, participants will learn to use writing to explore points of change in our lives. Karen Hering is a consulting literary minister at Unity Church-Unitarian in St. Paul\, MN. Visit karenhering.com.\n\nwww.whoozin.com/CVW-DCF-AEUH
X-ALT-DESC;FMTTYPE=text/html:Karen Hering\, author of &#39\;Writing to Wake the Soul: Opening the Sacred Conversation Within\,&#39\; leads this one-day workshop. Designed for people who write often as well as for those who are new to reflective writing\, participants will learn to use writing to explore points of change in our lives. Karen Hering is a consulting literary minister at Unity Church-Unitarian in St. Paul\, MN. Visit karenhering.com.<br />\nwww.<span style="font-family: &quot\;Arial&quot\;\,&quot\;sans-serif&quot\;\; font-size: 10pt\; mso-fareast-font-family: &quot\;Times New Roman&quot\;\; mso-ansi-language: EN-US\; mso-fareast-language: EN-US\; mso-bidi-language: AR-SA\;"><font color="#000000">whoozin.com/CVW-DCF-AEUH </font></span>
LOCATION:Unitarian Universalist Congregation of Saratoga Springs\, 624 N. Broadway\, Saratoga Springs\, NY 12866
UID:e.2254.12436
SEQUENCE:3
DTSTAMP:20260422T165409Z
URL:http://saratogatourism-gzcms.preview.gochambermaster.com/events/details/writing-living-on-the-threshold-10-17-2015-12436
END:VEVENT

END:VCALENDAR
