BEGIN:VCALENDAR
VERSION:2.0
PRODID:-//ChamberMaster//Event Calendar 2.0//EN
METHOD:PUBLISH
X-PUBLISHED-TTL:P3D
REFRESH-INTERVAL:P3D
CALSCALE:GREGORIAN
BEGIN:VEVENT
DTSTART:20150617T114500Z
DTEND:20150617T201500Z
X-MICROSOFT-CDO-ALLDAYEVENT:FALSE
SUMMARY:Workplace 2015 Statewide Labor\, Employment & HR Conference
DESCRIPTION:Join us for our annual Statewide Labor\, Employment & HR Conference. This year's program will cover recent developments in labor and employment law\, including a session focusing on the U.S. Department of Labor's much anticipated proposal to overhaul FLSA white collar exemption regulations.
X-ALT-DESC;FMTTYPE=text/html:Join us for our annual Statewide Labor\, Employment &amp\; HR Conference. This year&#39\;s program will cover recent developments in labor and employment law\, including a session focusing on the U.S. Department of Labor&#39\;s much anticipated proposal to overhaul FLSA white collar exemption regulations.
LOCATION:Saratoga National Golf Club 458 Union Avenue Saratoga Springs\, NY 12866
UID:e.2254.7666
SEQUENCE:3
DTSTAMP:20260423T070535Z
URL:http://saratogatourism-gzcms.preview.gochambermaster.com/events/details/workplace-2015-statewide-labor-employment-hr-conference-06-17-2015-7666
END:VEVENT

END:VCALENDAR
