BEGIN:VCALENDAR
VERSION:2.0
PRODID:-//ChamberMaster//Event Calendar 2.0//EN
METHOD:PUBLISH
X-PUBLISHED-TTL:P3D
REFRESH-INTERVAL:P3D
CALSCALE:GREGORIAN
BEGIN:VEVENT
DTSTART:20140708T200000Z
DTEND:20140708T220000Z
X-MICROSOFT-CDO-ALLDAYEVENT:FALSE
SUMMARY:Womens Business Group
DESCRIPTION:Private tours\, special samples\, networking  and All Good Things are three new businesses located in one building in downtown Saratoga Springs.  This month you have an opportunity to experience all three first hand while connecting with other professional female Saratoga County Chamber members.  Please let us know that you plan to attend by July 7th.\nThank you to Key 4 Women for spponsoring the 2014 Women's Business Group.
X-ALT-DESC;FMTTYPE=text/html:<p>Private tours\, special samples\, networking & relationship building</p><p>The Pavilion Grand Hotel\, Mingle on the Avenue&nbsp\;and All Good Things are three new businesses located in one building in downtown Saratoga Springs.&nbsp\; This month you have an opportunity to experience all three first hand while connecting with other professional female Saratoga County Chamber members.&nbsp\; Please let us know that you plan to attend by July 7th.</p>\n<p>Thank you to Key 4 Women for spponsoring the 2014 Women's Business Group.</p>
LOCATION:Pavilion Grand Hotel
UID:e.2254.680
SEQUENCE:3
DTSTAMP:20260424T173119Z
URL:http://saratogatourism-gzcms.preview.gochambermaster.com/events/details/womens-business-group-07-08-2014-680
END:VEVENT

END:VCALENDAR
