BEGIN:VCALENDAR
VERSION:2.0
PRODID:-//ChamberMaster//Event Calendar 2.0//EN
METHOD:PUBLISH
X-PUBLISHED-TTL:P3D
REFRESH-INTERVAL:P3D
CALSCALE:GREGORIAN
BEGIN:VEVENT
DTSTART:20151013T210000Z
DTEND:20151013T230000Z
X-MICROSOFT-CDO-ALLDAYEVENT:FALSE
SUMMARY:Women in Business Group
DESCRIPTION:A fun mix and mingle to build relationships with other women in business in a casual and beautiful setting. Wine and appetizers will be served.\n\n\n\nThank you to Key4Women for sponsoring the 2015 Women's Business Group.
X-ALT-DESC;FMTTYPE=text/html:<p>A fun mix and mingle to build relationships with other women in business in a casual and beautiful setting. Wine and appetizers will be served.<br />\n<br />\nThank you to Key4Women for sponsoring&nbsp\;the 2015 Women&rsquo\;s Business Group.</p>\n
LOCATION:Saratoga Farmstead Bed and Breakfast 41 Locust Grove Road Saratoga Springs
UID:e.2254.12362
SEQUENCE:3
DTSTAMP:20260422T231014Z
URL:http://saratogatourism-gzcms.preview.gochambermaster.com/events/details/women-in-business-group-10-13-2015-12362
END:VEVENT

END:VCALENDAR
