BEGIN:VCALENDAR
VERSION:2.0
PRODID:-//ChamberMaster//Event Calendar 2.0//EN
METHOD:PUBLISH
X-PUBLISHED-TTL:P3D
REFRESH-INTERVAL:P3D
CALSCALE:GREGORIAN
BEGIN:VEVENT
DTSTART:20160209T140000Z
DTEND:20160210T030000Z
X-MICROSOFT-CDO-ALLDAYEVENT:FALSE
SUMMARY:Women in Business Group
DESCRIPTION:Communication for Unshakeable Relationships\n\nEven the best communicators can benefit from improving their communications skills. Before BJ Rosenfeld discovered the secret to staying connected\, she almost lost all connection with her adult son.  Through trial and error\, she found the strategies that worked and then made a commitment to share her story with people worldwide. Through a focus and commitment to two way listening\, compromise\, and judgment free support\, BJ will lead a discussion in how we can find ways to better connect in our personal and professional relationships.\n\n\n\nThank you to Key4Women for sponsoring the 2016 Women in Business Group.
X-ALT-DESC;FMTTYPE=text/html:<p class="x_MsoNormal" style="margin: 0in 0in 0pt\; color: rgb(33\, 33\, 33)\; font-family: &quot\;Times New Roman&quot\;\, serif\; font-size: 12pt\;"><span style="color: rgb(31\, 73\, 125)\; font-family: Calibri\, sans-serif\; font-size: 11pt\;">Communication for Unshakeable Relationships</span></p>\n\n<p style="color: rgb(33\, 33\, 33)\; font-family: &quot\;Times New Roman&quot\;\, serif\; font-size: 12pt\; margin-right: 0in\; margin-left: 0in\;"><span style="color: rgb(31\, 73\, 125)\; font-family: Calibri\, sans-serif\; font-size: 11pt\;">Even the best communicators can benefit from improving their communications skills.</span><span style="color: rgb(31\, 73\, 125)\; font-family: Calibri\, sans-serif\;">&nbsp\;Before BJ&nbsp\;Rosenfeld discovered the secret to staying connected\, she almost lost&nbsp\;all connection with&nbsp\;her adult son. &nbsp\;Through trial and error\, she found the strategies that worked and then made a commitment to share her story with people worldwide.&nbsp\;</span><span style="color: rgb(31\, 73\, 125)\; font-family: Calibri\, sans-serif\; font-size: 11pt\;">Through a focus and commitment to two way listening\, compromise\, and judgment free support\, BJ&nbsp\;will lead a discussion in how we can find ways to better connect in our personal and professional relationships.<br />\n<br />\nThank you to Key4Women for sponsoring the 2016 Women in Business Group.</span></p>\n\n<div>&nbsp\;</div>\n
LOCATION:Saratoga County Chamber Offices 28 Clinton Street
UID:e.2254.14279
SEQUENCE:3
DTSTAMP:20260422T014424Z
URL:http://saratogatourism-gzcms.preview.gochambermaster.com/events/details/women-in-business-group-02-09-2016-14279
END:VEVENT

END:VCALENDAR
