BEGIN:VCALENDAR
VERSION:2.0
PRODID:-//ChamberMaster//Event Calendar 2.0//EN
METHOD:PUBLISH
X-PUBLISHED-TTL:P3D
REFRESH-INTERVAL:P3D
CALSCALE:GREGORIAN
BEGIN:VEVENT
DTSTART:20140717T200000Z
DTEND:20140717T210000Z
X-MICROSOFT-CDO-ALLDAYEVENT:FALSE
SUMMARY:Weekend MBA Program Information Session - 07/17/2014
DESCRIPTION:UAlbany Weekend MBA Program Informaiton SessionCome attend our information session\, and learn how the Weekend MBA Program can power up your career. Speak firsthand with the program director\, students and alumni\, tour the Executive Education Center\, discuss any specific questions or concerns you may have about the program\, and find out if the program is the right fit for you!
X-ALT-DESC;FMTTYPE=text/html:<p>UAlbany Weekend MBA Program Informaiton Session</p><p><span style="font-size: 9pt\; line-height: 115%\; font-family: Arial\,sans-serif\;">Come attend our information session\, and learn how the Weekend MBA Program can power up your career. Speak firsthand with the program director\, students and alumni\, tour the Executive Education Center\, discuss any specific questions or concerns you may have about the program\, and find out if the program is the right fit for you!</span></p>
LOCATION:Albany Colonie Regional Chamber of Commerce
UID:e.2254.3365
SEQUENCE:3
DTSTAMP:20260424T184328Z
URL:http://saratogatourism-gzcms.preview.gochambermaster.com/events/details/weekend-mba-program-information-session-07-17-2014-07-17-2014-3365
END:VEVENT

END:VCALENDAR
