BEGIN:VCALENDAR
VERSION:2.0
PRODID:-//ChamberMaster//Event Calendar 2.0//EN
METHOD:PUBLISH
X-PUBLISHED-TTL:P3D
REFRESH-INTERVAL:P3D
CALSCALE:GREGORIAN
BEGIN:VEVENT
DTSTART:20161015T130000Z
DTEND:20161015T160000Z
X-MICROSOFT-CDO-ALLDAYEVENT:FALSE
SUMMARY:Walk to End Alzheimer's
DESCRIPTION:Held annually in more than 600 communities nationwide\, the Alzheimer's Association Walk to End Alzheimer's  is the world's largest event to raise awareness and funds for Alzheimer's care\, support and research. This inspiring event calls on participants of all ages and abilities to reclaim the future for millions!
X-ALT-DESC;FMTTYPE=text/html:Held annually in more than 600 communities nationwide\, the Alzheimer&#39\;s Association Walk to End Alzheimer&rsquo\;s&reg\; is the world&rsquo\;s largest event to raise awareness and funds for Alzheimer&rsquo\;s care\, support and research. This inspiring event calls on participants of all ages and abilities to reclaim the future for millions!
LOCATION:Glens Falls Civic Center
UID:e.2254.16924
SEQUENCE:3
DTSTAMP:20260420T195441Z
URL:http://saratogatourism-gzcms.preview.gochambermaster.com/events/details/walk-to-end-alzheimer-s-10-15-2016-16924
END:VEVENT

END:VCALENDAR
