BEGIN:VCALENDAR
VERSION:2.0
PRODID:-//ChamberMaster//Event Calendar 2.0//EN
METHOD:PUBLISH
X-PUBLISHED-TTL:P3D
REFRESH-INTERVAL:P3D
CALSCALE:GREGORIAN
BEGIN:VEVENT
DTSTART:20151003T150000Z
DTEND:20151003T190000Z
X-MICROSOFT-CDO-ALLDAYEVENT:FALSE
SUMMARY:WALDORF SCHOOL OF SARATOGA SPRINGS AUTUMN FESTIVAL & OPEN HOUSE
DESCRIPTION:WALDORF SCHOOL AUTUMN FESTIVAL & OPEN HOUSE Saturday\, October 3 62 York Avenue Saratoga Springs\, NY 12866 11:00 am - 3:00 pm RAIN OR SHINE Admission Fees: $5.00 per person/$20.00 per family Silent Wings live raptor presentation\, puppet shows\, farm animals\, face painting\, blacksmithing\, spinning\, fiber dyeing\, tin smithing\, bread making\, cider pressing\, sheep shearing\, caf  and bake sale\, brick oven pizza\, storytelling\, felting\, corn husk dolls\, live music\, and so much more!! For more information contact: 587.2224/www.admissions@waldorfsaratoga.org
X-ALT-DESC;FMTTYPE=text/html:WALDORF SCHOOL AUTUMN FESTIVAL &amp\; OPEN HOUSE Saturday\, October 3 62 York Avenue Saratoga Springs\, NY 12866 11:00 am - 3:00 pm RAIN OR SHINE Admission Fees: $5.00 per person/$20.00 per family Silent Wings live raptor presentation\, puppet shows\, farm animals\, face painting\, blacksmithing\, spinning\, fiber dyeing\, tin smithing\, bread making\, cider pressing\, sheep shearing\, caf&eacute\; and bake sale\, brick oven pizza\, storytelling\, felting\, corn husk dolls\, live music\, and so much more!! For more information contact: 587.2224/www.admissions@waldorfsaratoga.org
LOCATION:The Waldorf School of Saratoga Springs 62 York Avenue Saratoga Springs\, NY 12866
UID:e.2254.12391
SEQUENCE:3
DTSTAMP:20260422T145216Z
URL:http://saratogatourism-gzcms.preview.gochambermaster.com/events/details/waldorf-school-of-saratoga-springs-autumn-festival-open-house-10-03-2015-12391
END:VEVENT

END:VCALENDAR
