BEGIN:VCALENDAR
VERSION:2.0
PRODID:-//ChamberMaster//Event Calendar 2.0//EN
METHOD:PUBLISH
X-PUBLISHED-TTL:P3D
REFRESH-INTERVAL:P3D
CALSCALE:GREGORIAN
BEGIN:VEVENT
DTSTART:20160921T230000Z
DTEND:20160922T000000Z
X-MICROSOFT-CDO-ALLDAYEVENT:FALSE
SUMMARY:Volunteer Meeting and Presentation on the Galapagos Islands
DESCRIPTION:Our former volunteer coordinator\, Jill Litchfield\, went to the Galapagos Islands and will be sharing pictures and stories of her trip. At the conclusion of her presentation we will have a short volunteer meeting to catch up after the long summer. We will talk about what has been going on and what volunteer opportunities are coming up at the Preserve & Park. Refreshments will be served beginning at 6:45 PM.
X-ALT-DESC;FMTTYPE=text/html:Our former volunteer coordinator\, Jill Litchfield\, went to the Galapagos Islands and will be sharing pictures and stories of her trip. At the conclusion of her presentation we will have a short volunteer meeting to catch up after the long summer. We will talk about what has been going on and what volunteer opportunities are coming up at the Preserve &amp\; Park. Refreshments will be served beginning at 6:45 PM.
LOCATION:Wilton Wildlife Preserve and Park Office\, 80 Scout Road\, Gansevoort\, NY 12831
UID:e.2254.19535
SEQUENCE:3
DTSTAMP:20260420T214102Z
URL:http://saratogatourism-gzcms.preview.gochambermaster.com/events/details/volunteer-meeting-and-presentation-on-the-galapagos-islands-19535
END:VEVENT

END:VCALENDAR
