BEGIN:VCALENDAR
VERSION:2.0
PRODID:-//ChamberMaster//Event Calendar 2.0//EN
METHOD:PUBLISH
X-PUBLISHED-TTL:P3D
REFRESH-INTERVAL:P3D
CALSCALE:GREGORIAN
BEGIN:VEVENT
DTSTART:20160113T230000Z
DTEND:20160114T000000Z
X-MICROSOFT-CDO-ALLDAYEVENT:FALSE
SUMMARY:Using Effective Communication Strategies To Have A Good Visit
DESCRIPTION:A member from the Alzheimer's Association will be leading an educational program called "Using Effective Communication Strategies To Have A Good Visit" at the Saratoga Center for Rehab and Skilled Nursing Care facility in our Main Activity Room.
X-ALT-DESC;FMTTYPE=text/html:A member from the&nbsp\;Alzheimer&#39\;s Association will be leading an educational program called &quot\;Using Effective Communication Strategies To Have A Good Visit&quot\; at the Saratoga Center for Rehab and Skilled Nursing Care facility in our Main Activity Room.
LOCATION:Saratoga Center for Rehab and Skilled Nursing Care
UID:e.2254.13163
SEQUENCE:3
DTSTAMP:20260422T073305Z
URL:http://saratogatourism-gzcms.preview.gochambermaster.com/events/details/using-effective-communication-strategies-to-have-a-good-visit-01-13-2016-13163
END:VEVENT

END:VCALENDAR
