BEGIN:VCALENDAR
VERSION:2.0
PRODID:-//ChamberMaster//Event Calendar 2.0//EN
METHOD:PUBLISH
X-PUBLISHED-TTL:P3D
REFRESH-INTERVAL:P3D
CALSCALE:GREGORIAN
BEGIN:VEVENT
DTSTART:20151014T220000Z
DTEND:20151015T010000Z
X-MICROSOFT-CDO-ALLDAYEVENT:FALSE
SUMMARY:UAlbany School of Business Evening MBA Information Session
DESCRIPTION:The School of Business hosts information sessions to provide insight on the value of a graduate degree in business and the benefits of a University at Albany education. The following is a list of upcoming Evening MBA information sessions scheduled for 2015. This is a formal presentation for prospective students to receive a comprehensive outline before applying to the program.
X-ALT-DESC;FMTTYPE=text/html:The School of Business hosts information sessions to provide insight on the value of a graduate degree in business and the benefits of a University at Albany education. The following is a list of upcoming Evening MBA information sessions scheduled for 2015. This is a formal presentation for prospective students to receive a comprehensive outline before applying to the program.
LOCATION:Business Building 151
UID:e.2254.12597
SEQUENCE:3
DTSTAMP:20260422T145200Z
URL:http://saratogatourism-gzcms.preview.gochambermaster.com/events/details/ualbany-school-of-business-evening-mba-information-session-10-14-2015-12597
END:VEVENT

END:VCALENDAR
