BEGIN:VCALENDAR
VERSION:2.0
PRODID:-//ChamberMaster//Event Calendar 2.0//EN
METHOD:PUBLISH
X-PUBLISHED-TTL:P3D
REFRESH-INTERVAL:P3D
CALSCALE:GREGORIAN
BEGIN:VEVENT
DTSTART:20160813T130000Z
DTEND:20160813T200000Z
X-MICROSOFT-CDO-ALLDAYEVENT:FALSE
SUMMARY:Through the Woods Basket with Barbara Boughton. #962-0813.
DESCRIPTION:This class teaches the technique of weaving a double-bottomed\, twined base. The basket is woven on an oak D-handle\, with rusty-tin Adirondack-themed objects wired across the handle. The sides are woven in the plain-weave\, start-stop method and to complete the look\, students will weave "pine trees" onto the sides. Dimensions are approximately 12 inches in diameter\, 12 inches high at the handle\, 6 inches at the sides.
X-ALT-DESC;FMTTYPE=text/html:<pre>\n<span style="font-size:12pt"><span style="font-family:arial\,sans-serif"><span style="color:black">This class teaches the technique of weaving a double-bottomed\, twined base. The basket is woven on an oak D-handle\, with rusty-tin Adirondack-themed objects wired across the handle. The sides are woven in the plain-weave\, start-stop method and to complete the look\, students will weave &quot\;pine trees&quot\; onto the sides. Dimensions are approximately 12 inches in diameter\, 12 inches high at the handle\, 6 inches at the sides.</span></span></span></pre>\n
LOCATION:Adirondack Folk School 51 Main Street Lake Luzerne\, NY 12846
UID:e.2254.16104
SEQUENCE:3
DTSTAMP:20260421T003516Z
URL:http://saratogatourism-gzcms.preview.gochambermaster.com/events/details/through-the-woods-basket-with-barbara-boughton-962-0813-08-13-2016-16104
END:VEVENT

END:VCALENDAR
