BEGIN:VCALENDAR
VERSION:2.0
PRODID:-//ChamberMaster//Event Calendar 2.0//EN
METHOD:PUBLISH
X-PUBLISHED-TTL:P3D
REFRESH-INTERVAL:P3D
CALSCALE:GREGORIAN
BEGIN:VEVENT
DTSTART:20191001T203000Z
DTEND:20191001T220000Z
X-MICROSOFT-CDO-ALLDAYEVENT:FALSE
SUMMARY:Three Vines Five Year Anniversary Ribbon Cutting and Takeover
DESCRIPTION:Join Three Vines Bistro for a ribbon cutting and takeover celebrating their five year anniversary. The ribbon cutting will take place at 4:30 p.m.\, with a takeover immediately following. On hand will be complimentary food and drink specials for attendees to enjoy while mixing and mingling with fellow Chamber members. There is no charge for this event and space is limited. Pre-registration is appreciated.
X-ALT-DESC;FMTTYPE=text/html:Join Three Vines Bistro for a ribbon cutting and takeover celebrating their five year anniversary. The ribbon cutting will take place at 4:30 p.m.\, with a takeover immediately following. On hand will be complimentary food and drink specials for attendees to enjoy while mixing and mingling with fellow Chamber members. There is no charge for this event and space is limited. Pre-registration is appreciated.
LOCATION:Three Vines Bistro 32 A Congress Street Saratoga Springs\, NY 12866
UID:e.2254.41432
SEQUENCE:3
DTSTAMP:20260419T130603Z
URL:http://saratogatourism-gzcms.preview.gochambermaster.com/events/details/three-vines-five-year-anniversary-ribbon-cutting-and-takeover-41432
END:VEVENT

END:VCALENDAR
