BEGIN:VCALENDAR
VERSION:2.0
PRODID:-//ChamberMaster//Event Calendar 2.0//EN
METHOD:PUBLISH
X-PUBLISHED-TTL:P3D
REFRESH-INTERVAL:P3D
CALSCALE:GREGORIAN
BEGIN:VEVENT
DTSTART:20160121T123000Z
DTEND:20160121T140000Z
X-MICROSOFT-CDO-ALLDAYEVENT:FALSE
SUMMARY:Third Thursday Breakfast - Minimum Wage\, Reprivatizing NYRA & Bikes on Trains
DESCRIPTION:Minimum Wage\, Re-privatizing NYRA & Bikes on Trains\n\nThese three issues and others that will be considered during the 2016 Legislative Session\, in Albany\, will be the focus of a discussion with area legislators at our January 21st Breakfast. Join us on Thursday\, January 21st\, at the Embassy Suites\, starting at 7:30 a.m.\, as we enjoy a delicious breakfast and hear from State Senators Kathy Marchione and Hugh Farley as well as Assembly Members Carrie Woerner and Jim Tedisco on these and other issues of interest to chamber members in Saratoga County and beyond. This Legislative Breakfast will be moderated by Matt Jones\, of The Jones Firm and the volunteer Chair of the Chamber's Board of Directors in 2016.
X-ALT-DESC;FMTTYPE=text/html:<p>Minimum Wage\, Re-privatizing NYRA &amp\; Bikes on Trains<br />\nThese three issues and others that will be considered during the 2016 Legislative Session\, in Albany\, will be the focus of a discussion with area legislators at our January 21<sup>st</sup> Breakfast. Join us on Thursday\, January 21<sup>st</sup>\, at the Embassy Suites\, starting at 7:30 a.m.\, as we enjoy a delicious breakfast and hear from State Senators Kathy Marchione and Hugh Farley as well as Assembly Members Carrie Woerner and Jim Tedisco on these and other issues of interest to chamber members in Saratoga County and beyond. This Legislative Breakfast will be moderated by Matt Jones\, of The Jones Firm and the volunteer Chair of the Chamber&rsquo\;s Board of Directors in 2016.&nbsp\;</p>\n
LOCATION:Embassy Suites 86 Congress Street Saratoga Springs\, NY 12866
UID:e.2254.13155
SEQUENCE:3
DTSTAMP:20260424T105336Z
URL:http://saratogatourism-gzcms.preview.gochambermaster.com/events/details/third-thursday-breakfast-minimum-wage-reprivatizing-nyra-bikes-on-trains-01-21-2016-13155
END:VEVENT

END:VCALENDAR
