BEGIN:VCALENDAR
VERSION:2.0
PRODID:-//ChamberMaster//Event Calendar 2.0//EN
METHOD:PUBLISH
X-PUBLISHED-TTL:P3D
REFRESH-INTERVAL:P3D
CALSCALE:GREGORIAN
BEGIN:VEVENT
DTSTART:20160701T180000Z
DTEND:20160701T200000Z
X-MICROSOFT-CDO-ALLDAYEVENT:FALSE
SUMMARY:Theater Residency:
DESCRIPTION:Theater Residency: Demonstration of the Suzuki method by SITI Company members and workshop participants 2 p.m.-Bernhard Theater For more information call 518-580-5596
X-ALT-DESC;FMTTYPE=text/html:Theater Residency: Demonstration of the Suzuki method by SITI Company members and workshop participants 2 p.m.-Bernhard Theater For more information call 518-580-5596
LOCATION:Skidmore College\, Bernhard Theater 815 N Broadway Saratoga Springs\, NY 12866
UID:e.2254.17129
SEQUENCE:3
DTSTAMP:20260421T061716Z
URL:http://saratogatourism-gzcms.preview.gochambermaster.com/events/details/theater-residency-07-01-2016-17129
END:VEVENT

END:VCALENDAR
