BEGIN:VCALENDAR
VERSION:2.0
PRODID:-//ChamberMaster//Event Calendar 2.0//EN
METHOD:PUBLISH
X-PUBLISHED-TTL:P3D
REFRESH-INTERVAL:P3D
CALSCALE:GREGORIAN
BEGIN:VEVENT
DTSTART:20151025T120000Z
DTEND:20151025T170000Z
X-MICROSOFT-CDO-ALLDAYEVENT:FALSE
SUMMARY:The Saratoga rUNDEAD
DESCRIPTION:A 5k trail run through Saratoga Spa State Park\, where runners are trying to escape hungry zombies to support Special Olympics.\n\n\n\nRunners will participate in an untimed\, family fun run as they head through the trail at Saratoga Spa State Park to avoid zombies. Zombies this year will move in a more realistic zombie fashion and be under observation by the Center for Disease Control.
X-ALT-DESC;FMTTYPE=text/html:A 5k trail run through Saratoga Spa State Park\, where runners are trying to escape hungry zombies to support Special Olympics.<br />\n<br />\nRunners will participate in an untimed\, family fun run as they head through the trail at Saratoga Spa State Park to avoid zombies. Zombies this year will move in a more realistic zombie fashion and be under observation by the Center for Disease Control.<br />\n<br />\n&nbsp\;
LOCATION:Saratoga Spa State Park
UID:e.2254.12389
SEQUENCE:3
DTSTAMP:20260422T140916Z
URL:http://saratogatourism-gzcms.preview.gochambermaster.com/events/details/the-saratoga-rundead-10-25-2015-12389
END:VEVENT

END:VCALENDAR
