BEGIN:VCALENDAR
VERSION:2.0
PRODID:-//ChamberMaster//Event Calendar 2.0//EN
METHOD:PUBLISH
X-PUBLISHED-TTL:P3D
REFRESH-INTERVAL:P3D
CALSCALE:GREGORIAN
BEGIN:VEVENT
DTSTART:20151025T113000Z
DTEND:20151025T200000Z
X-MICROSOFT-CDO-ALLDAYEVENT:FALSE
SUMMARY:The RUNDEAD
DESCRIPTION:5K trail run in Saratoga Springs State Park. Registration begins at 7:30am\, race begins at 9:30am.
X-ALT-DESC;FMTTYPE=text/html:5K trail run in Saratoga Springs State Park. Registration begins at 7:30am\, race begins at 9:30am.
LOCATION:Saratoga Springs State Park
UID:e.2254.7761
SEQUENCE:3
DTSTAMP:20260422T223539Z
URL:http://saratogatourism-gzcms.preview.gochambermaster.com/events/details/the-rundead-10-25-2015-7761
END:VEVENT

END:VCALENDAR
