BEGIN:VCALENDAR
VERSION:2.0
PRODID:-//ChamberMaster//Event Calendar 2.0//EN
METHOD:PUBLISH
X-PUBLISHED-TTL:P3D
REFRESH-INTERVAL:P3D
CALSCALE:GREGORIAN
BEGIN:VEVENT
DTSTART:20150722T000000Z
DTEND:20150723T030000Z
X-MICROSOFT-CDO-ALLDAYEVENT:FALSE
SUMMARY:The National Ballet of China at SPAC
DESCRIPTION:The National Ballet of China\, a beloved national symbol in its homeland and an iconic cultural emissary to the global community\, will perform at Saratoga Performing Arts Center (SPAC) July 21 and 22. Accompanied by The National Ballet of China Symphony Orchestra\, the company's SPAC engagement will feature the Saratoga premiere of The Peony Pavilion\, the internationally-acclaimed adaptation of a classic Chinese romantic tale. Tickets are available at spac.org now!
X-ALT-DESC;FMTTYPE=text/html:The National Ballet of China\, a beloved national symbol in its homeland and an iconic cultural emissary to the global community\, will perform at Saratoga Performing Arts Center (SPAC) July 21 and 22. Accompanied by The National Ballet of China Symphony Orchestra\, the company&#39\;s SPAC engagement will feature the Saratoga premiere of The Peony Pavilion\, the internationally-acclaimed adaptation of a classic Chinese romantic tale. Tickets are available at spac.org now!
LOCATION:Saratoga Performing Arts Center (SPAC)
UID:e.2254.6200
SEQUENCE:3
DTSTAMP:20260423T033954Z
URL:http://saratogatourism-gzcms.preview.gochambermaster.com/events/details/the-national-ballet-of-china-at-spac-07-21-2015-6200
END:VEVENT

END:VCALENDAR
