BEGIN:VCALENDAR
VERSION:2.0
PRODID:-//ChamberMaster//Event Calendar 2.0//EN
METHOD:PUBLISH
X-PUBLISHED-TTL:P3D
REFRESH-INTERVAL:P3D
CALSCALE:GREGORIAN
BEGIN:VEVENT
DTSTART;VALUE=DATE:20160710
DTEND;VALUE=DATE:20161003
TRANSP:TRANSPARENT
X-MICROSOFT-CDO-ALLDAYEVENT:TRUE
SUMMARY:The Hydes and Rembrandt
DESCRIPTION:During the late nineteenth and early twentieth centuries\, many American art collectors fervently desired to acquire a work by Rembrandt -- Charlotte and Louis Hyde were among them. Using materials from the Hyde Archive\, including correspondence with their adviser Willem Valentiner\, photographs\, and documents that shed light on their pursuit\, this exhibition follows the Hydes? quest to secure a painting by the Dutch Master. The exhibition is organized by The Hyde Collection.
X-ALT-DESC;FMTTYPE=text/html:During the late nineteenth and early twentieth centuries\, many American art collectors fervently desired to acquire a work by Rembrandt -- Charlotte and Louis Hyde were among them. Using materials from the Hyde Archive\, including correspondence with their adviser Willem Valentiner\, photographs\, and documents that shed light on their pursuit\, this exhibition follows the Hydes? quest to secure a painting by the Dutch Master. The exhibition is organized by The Hyde Collection.
LOCATION:The Hyde Collection 161 Warren St.\, Glens Falls\, NY 12801
UID:e.2254.16473
SEQUENCE:3
DTSTAMP:20260420T195458Z
URL:http://saratogatourism-gzcms.preview.gochambermaster.com/events/details/the-hydes-and-rembrandt-07-10-2016-16473
END:VEVENT

END:VCALENDAR
