BEGIN:VCALENDAR
VERSION:2.0
PRODID:-//ChamberMaster//Event Calendar 2.0//EN
METHOD:PUBLISH
X-PUBLISHED-TTL:P3D
REFRESH-INTERVAL:P3D
CALSCALE:GREGORIAN
BEGIN:VEVENT
DTSTART:20150904T233000Z
DTEND:20150905T030000Z
X-MICROSOFT-CDO-ALLDAYEVENT:FALSE
SUMMARY:The Doobie Brothers & Greg Allman
DESCRIPTION:A Pavilion Only Performance\n\nwww.livenation.com
X-ALT-DESC;FMTTYPE=text/html:A Pavilion Only Performance<br />\nwww.livenation.com
LOCATION:Saratoga Performing Arts Center 108 Avenue of the Pines Saratoga Springs NY 12866
UID:e.2254.8729
SEQUENCE:3
DTSTAMP:20260422T235619Z
URL:http://saratogatourism-gzcms.preview.gochambermaster.com/events/details/the-doobie-brothers-greg-allman-09-04-2015-8729
END:VEVENT

END:VCALENDAR
