BEGIN:VCALENDAR
VERSION:2.0
PRODID:-//ChamberMaster//Event Calendar 2.0//EN
METHOD:PUBLISH
X-PUBLISHED-TTL:P3D
REFRESH-INTERVAL:P3D
CALSCALE:GREGORIAN
BEGIN:VEVENT
DTSTART:20150221T010000Z
DTEND:20150221T033000Z
X-MICROSOFT-CDO-ALLDAYEVENT:FALSE
SUMMARY:The Complete History of America (Abridged) at HMT
DESCRIPTION:History will never be the same - at HMT!\n\n\nBy Adam Long\, Reed Martin and Austin Tichenor. THE COMPLETE HISTORY OF AMERICA (ABRIDGED) is a rollercoaster ride through the glorious quagmire that is American History. Called New Vaudeville\, it's classic slapstick : irreverent\, corny\, clever. It pokes fun at just about every turn in our nation's founding and comes up a winner. 600 years of history in 6\,000 seconds' history will never be the same! Some mature content.\n\n\n\n\n\n\nFebruary 13\, 14\, 20\, 21\, 27 & 28  8:00pm\n\nFebruary 22 & March 1  2:00pm
X-ALT-DESC;FMTTYPE=text/html:<p>History will never be the same - at HMT!</p>\n<style type="text/css"><!--\n /* Font Definitions */\n@font-face\n	{font-family:Arial\;\n	panose-1:2 11 6 4 2 2 2 2 2 4\;\n	mso-font-charset:0\;\n	mso-generic-font-family:auto\;\n	mso-font-pitch:variable\;\n	mso-font-signature:3 0 0 0 1 0\;}\n@font-face\n	{font-family:Calibri\;\n	panose-1:2 15 5 2 2 2 4 3 2 4\;\n	mso-font-charset:0\;\n	mso-generic-font-family:auto\;\n	mso-font-pitch:variable\;\n	mso-font-signature:3 0 0 0 1 0\;}\n@font-face\n	{font-family:"Gill Sans MT"\;\n	panose-1:2 11 5 2 2 1 4 2 2 3\;\n	mso-font-charset:88\;\n	mso-generic-font-family:auto\;\n	mso-font-pitch:variable\;\n	mso-font-signature:5 0 0 0 2 0\;}\n /* Style Definitions */\np.MsoNormal\, li.MsoNormal\, div.MsoNormal\n	{mso-style-parent:""\;\n	margin-top:0in\;\n	margin-right:0in\;\n	margin-bottom:10.0pt\;\n	margin-left:0in\;\n	line-height:115%\;\n	mso-pagination:widow-orphan\;\n	font-size:11.0pt\;\n	font-family:"Times New Roman"\;\n	mso-ascii-font-family:Calibri\;\n	mso-fareast-font-family:Calibri\;\n	mso-hansi-font-family:Calibri\;\n	mso-bidi-font-family:"Times New Roman"\;}\n@page Section1\n	{size:8.5in 11.0in\;\n	margin:1.0in 1.25in 1.0in 1.25in\;\n	mso-header-margin:.5in\;\n	mso-footer-margin:.5in\;\n	mso-paper-source:0\;}\ndiv.Section1\n	{page:Section1\;}\n-->\n</style>\n<p class="MsoNormal"><span style="line-height: 115%\; font-family: &quot\;Gill Sans MT&quot\;\; font-size: 12pt\; mso-bidi-font-family: Arial\;">By Adam Long\, Reed Martin and Austin Tichenor. THE COMPLETE HISTORY OF AMERICA (ABRIDGED) is a rollercoaster ride through the glorious quagmire that is American History. Called New Vaudeville\,&nbsp\;it&#39\;s classic slapstick :&nbsp\;irreverent\, corny\, clever. It pokes fun at just about every turn in our nation&#39\;s founding and comes up a winner. 600 years of history in 6\,000 seconds&#39\;&nbsp\;history will never be the same! <span style="line-height: 115%\; font-family: Gill Sans MT\; font-size: 12pt\;">Some mature content.</span></span></p>\n\n<p class="MsoNormal"><span style="line-height: 115%\; font-family: &quot\;Gill Sans MT&quot\;\; font-size: 12pt\; mso-bidi-font-family: Arial\;">\n<style type="text/css"><!--\n /* Font Definitions */\n@font-face\n	{font-family:Calibri\;\n	panose-1:2 15 5 2 2 2 4 3 2 4\;\n	mso-font-charset:0\;\n	mso-generic-font-family:auto\;\n	mso-font-pitch:variable\;\n	mso-font-signature:3 0 0 0 1 0\;}\n@font-face\n	{font-family:"Gill Sans MT"\;\n	panose-1:2 11 5 2 2 1 4 2 2 3\;\n	mso-font-charset:88\;\n	mso-generic-font-family:auto\;\n	mso-font-pitch:variable\;\n	mso-font-signature:5 0 0 0 2 0\;}\n /* Style Definitions */\np.MsoNormal\, li.MsoNormal\, div.MsoNormal\n	{mso-style-parent:""\;\n	margin-top:0in\;\n	margin-right:0in\;\n	margin-bottom:10.0pt\;\n	margin-left:0in\;\n	line-height:115%\;\n	mso-pagination:widow-orphan\;\n	font-size:11.0pt\;\n	font-family:"Times New Roman"\;\n	mso-ascii-font-family:Calibri\;\n	mso-fareast-font-family:Calibri\;\n	mso-hansi-font-family:Calibri\;\n	mso-bidi-font-family:"Times New Roman"\;}\np.MsoHeading8\, li.MsoHeading8\, div.MsoHeading8\n	{mso-style-link:"Heading 8 Char"\;\n	margin:0in\;\n	margin-bottom:.0001pt\;\n	mso-pagination:widow-orphan\;\n	mso-outline-level:8\;\n	font-size:10.0pt\;\n	font-family:"Times New Roman"\;\n	mso-fareast-font-family:"Times New Roman"\;\n	mso-bidi-font-family:"Times New Roman"\;\n	color:black\;\n	mso-font-kerning:14.0pt\;\n	font-weight:bold\;}\nspan.Heading8Char\n	{mso-style-name:"Heading 8 Char"\;\n	mso-style-locked:yes\;\n	mso-style-link:"Heading 8"\;\n	font-family:"Times New Roman"\;\n	mso-ascii-font-family:"Times New Roman"\;\n	mso-fareast-font-family:"Times New Roman"\;\n	mso-hansi-font-family:"Times New Roman"\;\n	color:black\;\n	mso-font-kerning:14.0pt\;\n	font-weight:bold\;}\n@page Section1\n	{size:8.5in 11.0in\;\n	margin:1.0in 1.25in 1.0in 1.25in\;\n	mso-header-margin:.5in\;\n	mso-footer-margin:.5in\;\n	mso-paper-source:0\;}\ndiv.Section1\n	{page:Section1\;}\n-->\n</style>\n</span></p>\n\n<p class="MsoHeading8" style="text-align: justify\;"><span lang="EN" style="font-family: &quot\;Gill Sans MT&quot\;\; font-size: 12pt\; font-weight: normal\; mso-ansi-language: EN\;">February 13\, 14\, 20\, 21\, 27 &amp\; 28 &nbsp\;8:00pm</span></p>\n\n<p class="MsoHeading8" style="text-align: justify\;"><span lang="EN" style="font-family: &quot\;Gill Sans MT&quot\;\; font-size: 12pt\; font-weight: normal\; mso-ansi-language: EN\;">February 22 &amp\; March 1&nbsp\; 2:00pm</span></p>\n&nbsp\;\n\n<p>&nbsp\;</p>\n
LOCATION:HMT at The Spa Little Theater Spa State Park
UID:e.2254.5559
SEQUENCE:3
DTSTAMP:20260423T225532Z
URL:http://saratogatourism-gzcms.preview.gochambermaster.com/events/details/the-complete-history-of-america-abridged-at-hmt-02-20-2015-5559
END:VEVENT

END:VCALENDAR
