BEGIN:VCALENDAR
VERSION:2.0
PRODID:-//ChamberMaster//Event Calendar 2.0//EN
METHOD:PUBLISH
X-PUBLISHED-TTL:P3D
REFRESH-INTERVAL:P3D
CALSCALE:GREGORIAN
BEGIN:VEVENT
DTSTART:20170628T000000Z
DTEND:20170628T010000Z
X-MICROSOFT-CDO-ALLDAYEVENT:FALSE
SUMMARY:Terell Stafford Quintet
DESCRIPTION:Acclaimed trumpeter Terell Stafford leads this quintet featuring Tim Warfield (tenor saxophone)\, Bruce Barth (piano)\, David Wong (bass) and Billy Williams (drums).
X-ALT-DESC;FMTTYPE=text/html:<span style="font-family: calibri\,sans-serif\; font-size: 12pt\;">Acclaimed trumpeter Terell Stafford leads this quintet featuring Tim Warfield (tenor saxophone)\, Bruce Barth (piano)\, David Wong (bass) and Billy Williams (drums). </span>
LOCATION:Zankel Music Center Ladd Hall Saratoga Springs\, NY
UID:e.2254.23938
SEQUENCE:3
DTSTAMP:20260419T210029Z
URL:http://saratogatourism-gzcms.preview.gochambermaster.com/events/details/terell-stafford-quintet-23938
END:VEVENT

END:VCALENDAR
