BEGIN:VCALENDAR
VERSION:2.0
PRODID:-//ChamberMaster//Event Calendar 2.0//EN
METHOD:PUBLISH
X-PUBLISHED-TTL:P3D
REFRESH-INTERVAL:P3D
CALSCALE:GREGORIAN
BEGIN:VEVENT
DTSTART:20160826T220000Z
DTEND:20160827T020000Z
X-MICROSOFT-CDO-ALLDAYEVENT:FALSE
SUMMARY:Taste of Travers Celebration
DESCRIPTION:Prestwick Chase at Saratoga presents the 1st Annual Taste of Travers Celebration to benefit The Adult and Senior Center of Saratoga on August 26\, 2016 from 6-10pm at the National Museum of Dance. This fun-filled Travers and Saratoga themed event will recognize 2015 Travers winner Keen Ice. We are honored to have Jerry and Linda Crawford of Donegal racing\, Javier and Abby Castellano\, Dale Romans and Tammy Fox as co-chairs. The Owners of Prestwick Chase are committed to bringing back a Travers celebration to Saratoga Springs similar to those held for the Kentucky Derby and other large stakes races.\n\nThe evening will feature 2 different parties under one tent. Enter the VIP party through an exclusive private entrance with valet parking. You'll be greeted with a welcome drink. Visit the Keen Ice VIP lounge. Enjoy special top-shelf tastings and an open bar by William Grant & Sons\, E&J Gallo and Empire Merchants. Gourmet food stations by Old Daley Custom Catering\, live music by Grand Central Station\, cigar tasting by Smokin SAMs\, and photo booth by Heather Bohm-Tallman. Get ready for the Travers race with a handicapping session by Bruno De Julio and others. Single tickets or tables are available.\n\nSenior Citizen tickets are available for members of The Adult and Senior Center of Saratoga who are 60 or older. Please call the Saratoga Senior Center 518-584-1621 to purchase senior tickets.\n\nThe paddock party will feature food stations by Old Daley Custom Catering\, open bar\, and valet parking.\n\nThe Adult and Senior Center of Saratoga Springs\, a non-residential community center serves over 1\,200 members by providing a fun and nurturing social environment with support services and programs tailored to adults and seniors. The facility is located in the heart of downtown Saratoga and serves as a community hub where seniors can get help and maintain an independent lifestyle by making new friends\, sharing a meal\, taking a healthy living class or learning a new skill. The social interaction provided by these programs is essential to the physical and mental health of the seniors in our community.\n\nFree transportation to and from the Museum of Dance from Saratoga Race Course and Downtown Saratoga Springs provided by Martin\, Harding\, and Mazzotti - call 1-800-LAW-1010\n\nTickets can be purchased by visiting TasteofTravers.eventbrite.com or http://www.saratogaseniorcenter.org/
X-ALT-DESC;FMTTYPE=text/html:<p style="color: rgb(0\, 0\, 0)\; font-family: &quot\;Times New Roman&quot\;\; font-size: medium\; line-height: normal\;">Prestwick Chase at Saratoga presents the 1st Annual Taste of Travers Celebration to benefit The Adult and Senior Center of Saratoga on August 26\, 2016 from 6-10pm at the National Museum of Dance. This fun-filled Travers and Saratoga themed event will recognize 2015 Travers winner Keen Ice. We are honored to have Jerry and Linda Crawford of Donegal racing\, Javier and Abby Castellano\, Dale Romans and Tammy Fox as co-chairs. The Owners of Prestwick Chase are committed to bringing back a Travers celebration to Saratoga Springs similar to those held for the Kentucky Derby and other large stakes races.</p>\n\n<p style="color: rgb(0\, 0\, 0)\; font-family: &quot\;Times New Roman&quot\;\; font-size: medium\; line-height: normal\;">The evening will feature 2 different parties under one tent. Enter the VIP party through an exclusive private entrance with valet parking. You&rsquo\;ll be greeted with a welcome drink. Visit the Keen Ice VIP lounge. Enjoy special top-shelf tastings and an open bar by William Grant &amp\; Sons\, E&amp\;J Gallo and Empire Merchants. Gourmet food stations by Old Daley Custom Catering\, live music by Grand Central Station\, cigar tasting by Smokin SAMs\, and photo booth by Heather Bohm-Tallman. Get ready for the Travers race with a handicapping session by Bruno De Julio and others. Single tickets or tables are available.</p>\n\n<p style="color: rgb(0\, 0\, 0)\; font-family: &quot\;Times New Roman&quot\;\; font-size: medium\; line-height: normal\;">Senior Citizen tickets are available for members of The Adult and Senior Center of Saratoga who are 60 or older. Please call the Saratoga Senior Center 518-584-1621 to purchase senior tickets.</p>\n\n<p style="color: rgb(0\, 0\, 0)\; font-family: &quot\;Times New Roman&quot\;\; font-size: medium\; line-height: normal\;">The paddock party will feature food stations by Old Daley Custom Catering\, open bar\, and valet parking.</p>\n\n<p style="color: rgb(0\, 0\, 0)\; font-family: &quot\;Times New Roman&quot\;\; font-size: medium\; line-height: normal\;">The Adult and Senior Center of Saratoga Springs\, a non-residential community center serves over 1\,200 members by providing a fun and nurturing social environment with support services and programs tailored to adults and seniors. The facility is located in the heart of downtown Saratoga and serves as a community hub where seniors can get help and maintain an independent lifestyle by making new friends\, sharing a meal\, taking a healthy living class or learning a new skill. The social interaction provided by these programs is essential to the physical and mental health of the seniors in our community.</p>\n\n<p style="color: rgb(0\, 0\, 0)\; font-family: &quot\;Times New Roman&quot\;\; font-size: medium\; line-height: normal\;">Free transportation to and from the Museum of Dance from Saratoga Race Course and Downtown Saratoga Springs provided by Martin\, Harding\, and Mazzotti - call 1-800-LAW-1010</p>\n\n<p style="color: rgb(0\, 0\, 0)\; font-family: &quot\;Times New Roman&quot\;\; font-size: medium\; line-height: normal\;">Tickets can be purchased by visiting TasteofTravers.eventbrite.com or http://www.saratogaseniorcenter.org/</p>\n
LOCATION:National Museum of Dance
UID:e.2254.17027
SEQUENCE:3
DTSTAMP:20260421T001831Z
URL:http://saratogatourism-gzcms.preview.gochambermaster.com/events/details/taste-of-travers-celebration-08-26-2016-17027
END:VEVENT

END:VCALENDAR
