BEGIN:VCALENDAR
VERSION:2.0
PRODID:-//ChamberMaster//Event Calendar 2.0//EN
METHOD:PUBLISH
X-PUBLISHED-TTL:P3D
REFRESH-INTERVAL:P3D
CALSCALE:GREGORIAN
BEGIN:VEVENT
DTSTART:20140719T140000Z
DTEND:20140719T210000Z
X-MICROSOFT-CDO-ALLDAYEVENT:FALSE
SUMMARY:Tang Museum Summer Opening Celebration: Frances Day - 07/19/2014
DESCRIPTION:Tang Museum Summer Opening Celebration: Frances DayFrances Day is a celebration of the museum’s namesake\, Frances Young Tang. The event includes music\, art-making\, gallery talks\, snow cones and a photo booth so you can create your own keepsake. Everything is free and open to the public\, with all the museum galleries open from noon to 7 p.m.Schedule of events \n•Noon – 1 pm: Opening performance by singer-songwriter MaryLeigh Roohan\n•Noon – 5 pm: Scavenger Hunt for the young and young at heart\n•1 to 4 pm: Drop-in art activity: Inspired by Kay Rosen’s huge painting Wanderful!painted directly on the wall in I was a double\, art-makers age 5 and older will create whimsical graphic art using alphabet stamps and stencils\n•2:30 to 3:30 pm: Improv songwriting\, featuring singer-songwriter Michael Eck\, Roger Noyes and M.R. Poulopoulos\n•4:30 to 5:30 pm: Artist talks in the galleries\n•5:30 to 7 pm: Public reception
X-ALT-DESC;FMTTYPE=text/html:<p>Tang Museum Summer Opening Celebration: Frances Day</p><p>Frances Day is a celebration of the museum’s namesake\, Frances Young Tang. The event includes music\, art-making\, gallery talks\, snow cones and a photo booth so you can create your own keepsake. Everything is free and open to the public\, with all the museum galleries open from noon to 7 p.m.</p><p>Schedule of events <br>•Noon – 1 pm: Opening performance by singer-songwriter MaryLeigh Roohan<br>•Noon – 5 pm: Scavenger Hunt for the young and young at heart<br>•1 to 4 pm: Drop-in art activity: Inspired by Kay Rosen’s huge painting Wanderful!painted directly on the wall in I was a double\, art-makers age 5 and older will create whimsical graphic art using alphabet stamps and stencils<br>•2:30 to 3:30 pm: Improv songwriting\, featuring singer-songwriter Michael Eck\, Roger Noyes and M.R. Poulopoulos<br>•4:30 to 5:30 pm: Artist talks in the galleries<br>•5:30 to 7 pm: Public reception</p>
LOCATION:Tang Museum\, Skidmore College
UID:e.2254.3401
SEQUENCE:3
DTSTAMP:20260424T160512Z
URL:http://saratogatourism-gzcms.preview.gochambermaster.com/events/details/tang-museum-summer-opening-celebration-frances-day-07-19-2014-07-19-2014-3401
END:VEVENT

END:VCALENDAR
