BEGIN:VCALENDAR
VERSION:2.0
PRODID:-//ChamberMaster//Event Calendar 2.0//EN
METHOD:PUBLISH
X-PUBLISHED-TTL:P3D
REFRESH-INTERVAL:P3D
CALSCALE:GREGORIAN
BEGIN:VEVENT
DTSTART:20160611T160000Z
DTEND:20160807T210000Z
X-MICROSOFT-CDO-ALLDAYEVENT:FALSE
SUMMARY:Tang Museum Exhibition: According to What
DESCRIPTION:The capstone project for Evian Pan '17\, the 2015-16 Carole Marchand '57 Intern\, working with the Tang Museum's collection to explore the nature of fact and fiction\, the real and the surreal. Tang Museum Tuesday-Sunday\, noon-5 p.m.\, Friday\, noon-7 p.m.\; closed Mondays and major holidays. For more information call 518-580-8080
X-ALT-DESC;FMTTYPE=text/html:The capstone project for Evian Pan &rsquo\;17\, the 2015-16 Carole Marchand &rsquo\;57 Intern\, working with the Tang Museum&#39\;s collection to explore the nature of fact and fiction\, the real and the surreal. Tang Museum Tuesday-Sunday\, noon-5 p.m.\, Friday\, noon-7 p.m.\; closed Mondays and major holidays. For more information call 518-580-8080
LOCATION:Tang Museum\, Skidmore College 815 N Broadway Saratoga Springs\, NY 12866
UID:e.2254.17207
SEQUENCE:3
DTSTAMP:20260421T003418Z
URL:http://saratogatourism-gzcms.preview.gochambermaster.com/events/details/tang-museum-exhibition-according-to-what-06-11-2016-17207
END:VEVENT

END:VCALENDAR
