BEGIN:VCALENDAR
VERSION:2.0
PRODID:-//ChamberMaster//Event Calendar 2.0//EN
METHOD:PUBLISH
X-PUBLISHED-TTL:P3D
REFRESH-INTERVAL:P3D
CALSCALE:GREGORIAN
BEGIN:VEVENT
DTSTART:20160702T160000Z
DTEND:20170101T220000Z
X-MICROSOFT-CDO-ALLDAYEVENT:FALSE
SUMMARY:Tang Museum Exhibition: A More Perfect Union
DESCRIPTION:The first exhibition of Flag Exchange\, a multi-year\, 50-state project on identity\, iconography\, politics\, and patriotism by conceptual and social interventionist artist Mel Ziegler. Tang Museum Tuesday-Sunday\, noon-5 p.m.\, Friday\, noon-7 p.m.\; closed Mondays and major holidays. For more information call 518-580-8080
X-ALT-DESC;FMTTYPE=text/html:The first exhibition of Flag Exchange\, a multi-year\, 50-state project on identity\, iconography\, politics\, and patriotism by conceptual and social interventionist artist Mel Ziegler. Tang Museum Tuesday-Sunday\, noon-5 p.m.\, Friday\, noon-7 p.m.\; closed Mondays and major holidays. For more information call 518-580-8080
LOCATION:Tang Museum\, Skidmore College 815 N Broadway Saratoga Springs\, NY 12866
UID:e.2254.17206
SEQUENCE:3
DTSTAMP:20260420T135850Z
URL:http://saratogatourism-gzcms.preview.gochambermaster.com/events/details/tang-museum-exhibition-a-more-perfect-union-07-02-2016-17206
END:VEVENT

END:VCALENDAR
