BEGIN:VCALENDAR
VERSION:2.0
PRODID:-//ChamberMaster//Event Calendar 2.0//EN
METHOD:PUBLISH
X-PUBLISHED-TTL:P3D
REFRESH-INTERVAL:P3D
CALSCALE:GREGORIAN
BEGIN:VEVENT
DTSTART:20150414T160000Z
DTEND:20150414T170000Z
X-MICROSOFT-CDO-ALLDAYEVENT:FALSE
SUMMARY:Tang Museum Curator's Tour
DESCRIPTION:Curator's Tour of Realms of Earth and Sky: Indian Painting from the Fifteenth to the Nineteenth Century Noon-Tang Museum For more information call 518-580-8080
X-ALT-DESC;FMTTYPE=text/html:Curator&#39\;s Tour of Realms of Earth and Sky: Indian Painting from the Fifteenth to the Nineteenth Century Noon-Tang Museum For more information call 518-580-8080
LOCATION:Skidmore College\, Tang Museum 815 N. Broadway Saratoga Springs\, NY 12866
UID:e.2254.7711
SEQUENCE:3
DTSTAMP:20260423T225514Z
URL:http://saratogatourism-gzcms.preview.gochambermaster.com/events/details/tang-museum-curator-s-tour-04-14-2015-7711
END:VEVENT

END:VCALENDAR
