BEGIN:VCALENDAR
VERSION:2.0
PRODID:-//ChamberMaster//Event Calendar 2.0//EN
METHOD:PUBLISH
X-PUBLISHED-TTL:P3D
REFRESH-INTERVAL:P3D
CALSCALE:GREGORIAN
BEGIN:VEVENT
DTSTART:20150226T000000Z
DTEND:20150226T013000Z
X-MICROSOFT-CDO-ALLDAYEVENT:FALSE
SUMMARY:Tang Museum: Ayurvedic Workshop
DESCRIPTION:Join Eliza Kent\, Professor of Religion\, Skidmore College\, for a workshop exploring the Ayurvedic system of traditional Hindu medicine. Presented in conjunction with the exhibition Realms of Earth and Sky: Indian Painting from the Fifteenth to Nineteenth Century.
X-ALT-DESC;FMTTYPE=text/html:Join Eliza Kent\, Professor of Religion\, Skidmore College\, for a workshop exploring the Ayurvedic system of traditional Hindu medicine. Presented in conjunction with the exhibition Realms of Earth and Sky: Indian Painting from the Fifteenth to Nineteenth Century.
LOCATION:Skidmore College\, Tang Museum 815 North Broadway Saratoga Springs\, NY 12866
UID:e.2254.5490
SEQUENCE:3
DTSTAMP:20260423T225424Z
URL:http://saratogatourism-gzcms.preview.gochambermaster.com/events/details/tang-museum-ayurvedic-workshop-02-25-2015-5490
END:VEVENT

END:VCALENDAR
