BEGIN:VCALENDAR
VERSION:2.0
PRODID:-//ChamberMaster//Event Calendar 2.0//EN
METHOD:PUBLISH
X-PUBLISHED-TTL:P3D
REFRESH-INTERVAL:P3D
CALSCALE:GREGORIAN
BEGIN:VEVENT
DTSTART:20150821T210000Z
DTEND:20150821T230000Z
X-MICROSOFT-CDO-ALLDAYEVENT:FALSE
SUMMARY:Super Hero Party
DESCRIPTION:Come to The Children's Museum dressed-up as your favorite Super Hero and learn how community helpers\, volunteers\, and professionals are everyday heroes! Enjoy pizza\, crafts\, fun activities\, photo opportunities with super heroes\, and more! Party is $20 per child and pre-registration is required. If interested please call the Museum at (518) 584-5540.
X-ALT-DESC;FMTTYPE=text/html:Come to The Children&#39\;s Museum dressed-up as your favorite Super Hero and learn how community helpers\, volunteers\, and professionals are everyday heroes! Enjoy pizza\, crafts\, fun activities\, photo opportunities with super heroes\, and more! Party is $20 per child and pre-registration is required. If interested please call the Museum at (518) 584-5540.
LOCATION:The Children's Museum at Saratoga Saratoga Springs\, NY 12866
UID:e.2254.10209
SEQUENCE:3
DTSTAMP:20260423T014127Z
URL:http://saratogatourism-gzcms.preview.gochambermaster.com/events/details/super-hero-party-08-21-2015-10209
END:VEVENT

END:VCALENDAR
