BEGIN:VCALENDAR
VERSION:2.0
PRODID:-//ChamberMaster//Event Calendar 2.0//EN
METHOD:PUBLISH
X-PUBLISHED-TTL:P3D
REFRESH-INTERVAL:P3D
CALSCALE:GREGORIAN
BEGIN:VEVENT
DTSTART:20170301T213000Z
DTEND:20170301T233000Z
X-MICROSOFT-CDO-ALLDAYEVENT:FALSE
SUMMARY:SUNY Adirondack Symphonic Band
DESCRIPTION:January 25 to May 5 Wednesdays | 4:30 to 6:30pm Comprised of an intergenerational mix of community members and SUNY Adirondack music majors and non-music majors\, the Symphonic Band welcomes music lovers who have a background in playing a woodwind\, brass or percussion instrument. There are no auditions\, and a positive attitude is required. Public concert(s) will be included in the program. Pre-registration required call continuing education at 518-743-2238 or email: conted@sunyacc.edu 518-743-2238
X-ALT-DESC;FMTTYPE=text/html:January 25 to May 5 Wednesdays | 4:30 to 6:30pm Comprised of an intergenerational mix of community members and SUNY Adirondack music majors and non-music majors\, the Symphonic Band welcomes music lovers who have a background in playing a woodwind\, brass or percussion instrument. There are no auditions\, and a positive attitude is required. Public concert(s) will be included in the program. Pre-registration required call continuing education at 518-743-2238 or email: conted@sunyacc.edu 518-743-2238
LOCATION:
UID:e.2254.22503
SEQUENCE:3
DTSTAMP:20260420T070820Z
URL:http://saratogatourism-gzcms.preview.gochambermaster.com/events/details/suny-adirondack-symphonic-band-03-01-2017-22503
END:VEVENT

END:VCALENDAR
