BEGIN:VCALENDAR
VERSION:2.0
PRODID:-//ChamberMaster//Event Calendar 2.0//EN
METHOD:PUBLISH
X-PUBLISHED-TTL:P3D
REFRESH-INTERVAL:P3D
CALSCALE:GREGORIAN
BEGIN:VEVENT
DTSTART:20170417T230000Z
DTEND:20170418T010000Z
X-MICROSOFT-CDO-ALLDAYEVENT:FALSE
SUMMARY:SUNY Adirondack Chorale
DESCRIPTION:January 23 to May 5 Mondays | 7 to 9pm The chorale is intended for individuals who enjoy group singing and involves weekly group rehearsals. No previous experience is necessary\, and no audition is required. Public concert(s) will be included in the program. Pre-registration required call continuing education at 518-743-2238 or email: conted@sunyacc.edu 518-743-2238
X-ALT-DESC;FMTTYPE=text/html:January 23 to May 5 Mondays | 7 to 9pm The chorale is intended for individuals who enjoy group singing and involves weekly group rehearsals. No previous experience is necessary\, and no audition is required. Public concert(s) will be included in the program. Pre-registration required call continuing education at 518-743-2238 or email: conted@sunyacc.edu 518-743-2238
LOCATION:
UID:e.2254.22496
SEQUENCE:3
DTSTAMP:20260420T021121Z
URL:http://saratogatourism-gzcms.preview.gochambermaster.com/events/details/suny-adirondack-chorale-04-17-2017-22496
END:VEVENT

END:VCALENDAR
