BEGIN:VCALENDAR
VERSION:2.0
PRODID:-//ChamberMaster//Event Calendar 2.0//EN
METHOD:PUBLISH
X-PUBLISHED-TTL:P3D
REFRESH-INTERVAL:P3D
CALSCALE:GREGORIAN
BEGIN:VEVENT
DTSTART:20140706T123000Z
DTEND:20140706T140000Z
X-MICROSOFT-CDO-ALLDAYEVENT:FALSE
SUMMARY:Summer Sunday Stroll - 07/06/2014
DESCRIPTION:Here Lies Saratoga’s Past: Greenridge Cemetery\, Saratoga Springs Preservation Foundation Walking Tour Sunday\, July 6                            10:30 AM Summer Stroll Here Lies Saratoga’s Past: Greenridge Cemetery Sackett Gates\, Lincoln Avenue Join leader Jan Klassovity on this tour of Greenridge Cemetery to learn about  the beautiful and unusual crypts and mausoleums\, and explore the history of some of  Saratoga’s most prominent citizens.
X-ALT-DESC;FMTTYPE=text/html:<p>Here Lies Saratoga’s Past: Greenridge Cemetery\, Saratoga Springs Preservation Foundation Walking Tour </p><p style="margin-bottom: 0pt\;"><span style="font-size: 9pt\; line-height: 113%\; font-family: Calibri\; font-weight: bold\;">Sunday\, July 6&nbsp\;&nbsp\;&nbsp\;&nbsp\;&nbsp\;&nbsp\;&nbsp\;&nbsp\;&nbsp\;&nbsp\; &nbsp\;&nbsp\;&nbsp\;&nbsp\;&nbsp\;&nbsp\;&nbsp\;&nbsp\;&nbsp\;&nbsp\;&nbsp\;&nbsp\;&nbsp\;&nbsp\;&nbsp\;&nbsp\; 10:30 AM</span></p> <p style="margin-bottom: 0pt\;"><span style="font-size: 9pt\; line-height: 113%\; font-family: Calibri\; font-weight: bold\;">Summer Stroll</span></p> <p style="margin-bottom: 0pt\;"><span style="font-size: 9pt\; line-height: 113%\; font-family: Calibri\; font-weight: bold\;">Here Lies Saratoga’s Past:</span></p> <p style="margin-bottom: 0pt\;"><span style="font-size: 9pt\; line-height: 113%\; font-family: Calibri\; font-weight: bold\;">Greenridge Cemetery</span></p> <p style="margin-bottom: 0pt\;"><span style="font-size: 9pt\; line-height: 113%\; font-family: Calibri\; font-style: italic\;">Sackett Gates\, Lincoln Avenue</span></p> <p style="margin-bottom: 0pt\;"><span style="font-size: 9pt\; line-height: 113%\; font-family: Calibri\;">Join leader Jan Klassovity on this tour of Greenridge Cemetery to learn about&nbsp\; the beautiful and unusual crypts and mausoleums\, and explore the history of some of&nbsp\; Saratoga’s most prominent citizens.</span></p> <p><span>&nbsp\;</span></p>
LOCATION:Greenridge Cemetery\, Sackett Gates\, Lincoln Avenue
UID:e.2254.3329
SEQUENCE:3
DTSTAMP:20260424T173119Z
URL:http://saratogatourism-gzcms.preview.gochambermaster.com/events/details/summer-sunday-stroll-07-06-2014-07-06-2014-3329
END:VEVENT

END:VCALENDAR
