BEGIN:VCALENDAR
VERSION:2.0
PRODID:-//ChamberMaster//Event Calendar 2.0//EN
METHOD:PUBLISH
X-PUBLISHED-TTL:P3D
REFRESH-INTERVAL:P3D
CALSCALE:GREGORIAN
BEGIN:VEVENT
DTSTART:20150802T143000Z
DTEND:20150802T160000Z
X-MICROSOFT-CDO-ALLDAYEVENT:FALSE
SUMMARY:SUMMER STROLL: SARATOGA'S HISTORIC WEST SIDE
DESCRIPTION:Join Susan Brooks in the restored historic West Side and learn about the Irish and Italian immigrants who helped shaped its history. Saratoga Springs Preservation Foundation tours are rain or shine. Allow 90 minutes. Requires walking & standing and covers varied terrain. Pre-registration preferred. Tour meets: South Franklin Street (Gideon Putnam Cemetery Entrance)
X-ALT-DESC;FMTTYPE=text/html:Join Susan Brooks in the restored historic West Side and learn about the Irish and Italian immigrants who helped shaped its history. Saratoga Springs Preservation Foundation tours are rain or shine. Allow 90 minutes. Requires walking &amp\; standing and covers varied terrain. Pre-registration preferred. Tour meets: South Franklin Street (Gideon Putnam Cemetery Entrance)
LOCATION:South Franklin Street (Gideon Putnam Cemetery Entrance)
UID:e.2254.9989
SEQUENCE:3
DTSTAMP:20260423T014309Z
URL:http://saratogatourism-gzcms.preview.gochambermaster.com/events/details/summer-stroll-saratoga-s-historic-west-side-08-02-2015-9989
END:VEVENT

END:VCALENDAR
