BEGIN:VCALENDAR
VERSION:2.0
PRODID:-//ChamberMaster//Event Calendar 2.0//EN
METHOD:PUBLISH
X-PUBLISHED-TTL:P3D
REFRESH-INTERVAL:P3D
CALSCALE:GREGORIAN
BEGIN:VEVENT
DTSTART:20150705T143000Z
DTEND:20150705T160000Z
X-MICROSOFT-CDO-ALLDAYEVENT:FALSE
SUMMARY:SUMMER STROLL: DOWN IN THE VALLEY: EXPLORING THE GUT
DESCRIPTION:Ellen Steinberger will tour "The Gut\," once home to many working class family businesses and important contributions from Saratoga's Jewish community. Saratoga Springs Preservation Foundation tours are rain or shine. Allow 90 minutes. Requires walking & standing and covers varied terrain. Pre-registration preferred. Tour meets: Southeast Corner of Phila & Putnam Streets (Ben & Jerry?s)
X-ALT-DESC;FMTTYPE=text/html:Ellen Steinberger will tour &quot\;The Gut\,&quot\; once home to many working class family businesses and important contributions from Saratoga&#39\;s Jewish community. Saratoga Springs Preservation Foundation tours are rain or shine. Allow 90 minutes. Requires walking &amp\; standing and covers varied terrain. Pre-registration preferred. Tour meets: Southeast Corner of Phila &amp\; Putnam Streets (Ben &amp\; Jerry?s)
LOCATION:Southeast Corner of Phila & Putnam Streets (Ben & Jerry?s)
UID:e.2254.9984
SEQUENCE:3
DTSTAMP:20260423T033550Z
URL:http://saratogatourism-gzcms.preview.gochambermaster.com/events/details/summer-stroll-down-in-the-valley-exploring-the-gut-07-05-2015-9984
END:VEVENT

END:VCALENDAR
