BEGIN:VCALENDAR
VERSION:2.0
PRODID:-//ChamberMaster//Event Calendar 2.0//EN
METHOD:PUBLISH
X-PUBLISHED-TTL:P3D
REFRESH-INTERVAL:P3D
CALSCALE:GREGORIAN
BEGIN:VEVENT
DTSTART:20160605T170000Z
DTEND:20160605T190000Z
X-MICROSOFT-CDO-ALLDAYEVENT:FALSE
SUMMARY:STEAM SUNDAY
DESCRIPTION:Every Sunday explore the museum in a different light\, with the guidance of a museum educator through our permanent collection and ever changing exhibitions. Think from different angles and learn new\, exciting facts about how the world around us relates to the art of the past and present. This tour for families is followed by a science-based art activity in the Art Studio.
X-ALT-DESC;FMTTYPE=text/html:Every Sunday explore the museum in a different light\, with the guidance of a museum educator through our permanent collection and ever changing exhibitions. Think from different angles and learn new\, exciting facts about how the world around us relates to the art of the past and present. This tour for families is followed by a science-based art activity in the Art Studio.
LOCATION:The Hyde Collection 161 Warren Street Glens Falls\, NY 12801
UID:e.2254.14980
SEQUENCE:3
DTSTAMP:20260421T181644Z
URL:http://saratogatourism-gzcms.preview.gochambermaster.com/events/details/steam-sunday-06-05-2016-14980
END:VEVENT

END:VCALENDAR
