BEGIN:VCALENDAR
VERSION:2.0
PRODID:-//ChamberMaster//Event Calendar 2.0//EN
METHOD:PUBLISH
X-PUBLISHED-TTL:P3D
REFRESH-INTERVAL:P3D
CALSCALE:GREGORIAN
BEGIN:VEVENT
DTSTART:20150122T123000Z
DTEND:20150122T143000Z
X-MICROSOFT-CDO-ALLDAYEVENT:FALSE
SUMMARY:State of the Region: How Our Airport Gives Flight to Economic Development
DESCRIPTION:There's no doubt about it: Airports have become pivotal to economic development and the competitive viability of communities across the country. What is the Albany International Airport doing to position our region for desired airlines\, flights and destination hubs? \n\n \n\nLearn the latest at the third annual State of the Region breakfast\, focused this year on the business of our airport. Albany International Airport CEO John O'Donnell and Air Service Strategy and Development Consultant Michael Lum will present an in-depth look at national trends and the current status at Albany\, along with efforts underway to enhance air service for the Capital Region.  \n\n \n\nThis program is presented collaboratively by the Albany-Colonie Regional  Chamber\, Rensselaer County Regional Chamber of Commerce\, Saratoga County Chamber of Commerce and The Chamber of Schenectady County.
X-ALT-DESC;FMTTYPE=text/html:<span style="font-size: 10.5pt\;"><span style="color: rgb(0\, 32\, 96)\;"><span style="font-family: calibri\;">There&#39\;s no doubt about it: Airports have become pivotal to economic development and the competitive viability of communities across the country. What is the Albany International Airport doing to position our region for desired airlines\, flights and destination hubs? </span></span></span><br />\n&nbsp\;<br />\n<span style="font-size: 10.5pt\;"><span style="color: rgb(0\, 32\, 96)\;"><span style="font-family: calibri\;">Learn the latest at the third annual State of the Region breakfast\, focused this year on the business of our airport. Albany International Airport CEO John O&rsquo\;Donnell and Air Service Strategy and Development Consultant Michael Lum will present an in-depth look at national trends and the current status at Albany\, along with efforts underway to enhance air service for the Capital Region.&nbsp\; </span></span></span><br />\n&nbsp\;<br />\n<span style="font-size: 10.5pt\;"><span style="color: rgb(0\, 32\, 96)\;"><span style="font-family: calibri\;">This program is presented collaboratively by the Albany-Colonie Regional &nbsp\;Chamber\, Rensselaer County Regional Chamber of Commerce\, Saratoga County Chamber of Commerce and The Chamber of Schenectady County.</span></span></span><br />\n&nbsp\;
LOCATION:Hilton Garden Inn 235 Hoosick Street Troy\, NY 12180
UID:e.2254.934
SEQUENCE:3
DTSTAMP:20260424T015208Z
URL:http://saratogatourism-gzcms.preview.gochambermaster.com/events/details/state-of-the-region-how-our-airport-gives-flight-to-economic-development-01-22-2015-934
END:VEVENT

END:VCALENDAR
