BEGIN:VCALENDAR
VERSION:2.0
PRODID:-//ChamberMaster//Event Calendar 2.0//EN
METHOD:PUBLISH
X-PUBLISHED-TTL:P3D
REFRESH-INTERVAL:P3D
CALSCALE:GREGORIAN
BEGIN:VEVENT
DTSTART:20150328T190000Z
DTEND:20150328T210000Z
X-MICROSOFT-CDO-ALLDAYEVENT:FALSE
SUMMARY:Spring Daddy and Daughter Dance
DESCRIPTION:There is no age limit to this event so daughters of all ages are welcome (2 and up is recommended). Daddy Daughter Dance is a great opportunity for dads to spend time with their daughters\; in today's busy world that opportunity isn't always present. This event is a wonderful opportunity for dad's to give their daughters special time\, to show daughters what it means to be respected and honored. This event helps to build memories of first formal events for the girls\; it builds their confidence and truly does build a stronger relationship between dad and daughter. Age Group: 2 - 12 years old
X-ALT-DESC;FMTTYPE=text/html:There is no age limit to this event so daughters of all ages are welcome (2 and up is recommended). Daddy Daughter Dance is a great opportunity for dads to spend time with their daughters\; in today&#39\;s busy world that opportunity isn&#39\;t always present. This event is a wonderful opportunity for dad&#39\;s to give their daughters special time\, to show daughters what it means to be respected and honored. This event helps to build memories of first formal events for the girls\; it builds their confidence and truly does build a stronger relationship between dad and daughter. Age Group: 2 - 12 years old
LOCATION:The Genius Plaza - 511 Moe Road\, Clifton Park\, NY 12065
UID:e.2254.5777
SEQUENCE:3
DTSTAMP:20260423T195020Z
URL:http://saratogatourism-gzcms.preview.gochambermaster.com/events/details/spring-daddy-and-daughter-dance-03-28-2015-5777
END:VEVENT

END:VCALENDAR
