BEGIN:VCALENDAR
VERSION:2.0
PRODID:-//ChamberMaster//Event Calendar 2.0//EN
METHOD:PUBLISH
X-PUBLISHED-TTL:P3D
REFRESH-INTERVAL:P3D
CALSCALE:GREGORIAN
BEGIN:VEVENT
DTSTART:20150718T160000Z
DTEND:20150718T213000Z
X-MICROSOFT-CDO-ALLDAYEVENT:FALSE
SUMMARY:Solomon Northup Day
DESCRIPTION:Solomon Northup Day Skidmore College will host a half-day program commemorating Solomon Northup\, an African-American man who was abducted into slavery in 1841 and remained in captivity for 12 years. His memoir\, Twelve Years a Slave\, was made into a major motion picture in 2013 that won three Oscars\, including best picture. The program will include a keynote speaker\, musical performances\, and more. 12:30-5:30 p.m.-Skidmore College campus For more information call 518-580-5594
X-ALT-DESC;FMTTYPE=text/html:Solomon Northup Day Skidmore College will host a half-day program commemorating Solomon Northup\, an African-American man who was abducted into slavery in 1841 and remained in captivity for 12 years. His memoir\, Twelve Years a Slave\, was made into a major motion picture in 2013 that won three Oscars\, including best picture. The program will include a keynote speaker\, musical performances\, and more. 12:30-5:30 p.m.-Skidmore College campus For more information call 518-580-5594
LOCATION:Skidmore College\, Filene Recital hall 815 N Broadway Saratoga Springs\, NY 12866
UID:e.2254.9755
SEQUENCE:3
DTSTAMP:20260423T033611Z
URL:http://saratogatourism-gzcms.preview.gochambermaster.com/events/details/solomon-northup-day-07-18-2015-9755
END:VEVENT

END:VCALENDAR
