BEGIN:VCALENDAR
VERSION:2.0
PRODID:-//ChamberMaster//Event Calendar 2.0//EN
METHOD:PUBLISH
X-PUBLISHED-TTL:P3D
REFRESH-INTERVAL:P3D
CALSCALE:GREGORIAN
BEGIN:VEVENT
DTSTART:20150228T010000Z
DTEND:20150305T030000Z
X-MICROSOFT-CDO-ALLDAYEVENT:FALSE
SUMMARY:Skidmore Theater Black Box Production: The Penelopiad by Margaret Atwood.
DESCRIPTION:Skidmore Theater Black Box Production: The Penelopiad by Margaret Atwood. Directed by Emily Moler '15. All shows at 8 p.m. except Sunday matinee at 2 p.m. Bernhard Theater\, Black Box $12 general admission\, $8 students and senior citizens For more information call 518-580-5439
X-ALT-DESC;FMTTYPE=text/html:Skidmore Theater Black Box Production: The Penelopiad by Margaret Atwood. Directed by Emily Moler &#39\;15. All shows at 8 p.m. except Sunday matinee at 2 p.m. Bernhard Theater\, Black Box $12 general admission\, $8 students and senior citizens For more information call 518-580-5439
LOCATION:Skidmore College Bernhard Theater 815 North Broadway Saratoga Springs\, NY 12866
UID:e.2254.5551
SEQUENCE:3
DTSTAMP:20260423T195200Z
URL:http://saratogatourism-gzcms.preview.gochambermaster.com/events/details/skidmore-theater-black-box-production-the-penelopiad-by-margaret-atwood-02-27-2015-5551
END:VEVENT

END:VCALENDAR
