BEGIN:VCALENDAR
VERSION:2.0
PRODID:-//ChamberMaster//Event Calendar 2.0//EN
METHOD:PUBLISH
X-PUBLISHED-TTL:P3D
REFRESH-INTERVAL:P3D
CALSCALE:GREGORIAN
BEGIN:VEVENT
DTSTART:20140711T150000Z
DTEND:20140711T190000Z
X-MICROSOFT-CDO-ALLDAYEVENT:FALSE
SUMMARY:Skidmore Summer Jazz Institute: Student Concert - 07/11/2014
DESCRIPTION:Skidmore Summer Jazz Institute: Student ConcertFeaturing institute participants. 1 p.m.-Arthur Zankel Music Center\, Ladd Hall Free admission. For more information call 518-580-5546
X-ALT-DESC;FMTTYPE=text/html:<p>Skidmore Summer Jazz Institute: Student Concert</p><p><span>Featuring institute participants.</span></p> <p><span>1 p.m.-</span>Arthur Zankel Music Center\, Ladd Hall</p> <p>Free admission.</p> <span style="font-size: 12pt\; font-family: Times New Roman\,serif\;">For more information call 518-580-5546</span>
LOCATION:Arthur Zankel Music Center\, Skidmore College
UID:e.2254.3382
SEQUENCE:3
DTSTAMP:20260424T160621Z
URL:http://saratogatourism-gzcms.preview.gochambermaster.com/events/details/skidmore-summer-jazz-institute-student-concert-07-11-2014-07-11-2014-3382
END:VEVENT

END:VCALENDAR
