BEGIN:VCALENDAR
VERSION:2.0
PRODID:-//ChamberMaster//Event Calendar 2.0//EN
METHOD:PUBLISH
X-PUBLISHED-TTL:P3D
REFRESH-INTERVAL:P3D
CALSCALE:GREGORIAN
BEGIN:VEVENT
DTSTART:20170520T144000Z
DTEND:20170520T173000Z
X-MICROSOFT-CDO-ALLDAYEVENT:FALSE
SUMMARY:Skidmore College Commencement
DESCRIPTION:Skidmore College Commencement
X-ALT-DESC;FMTTYPE=text/html:Skidmore College Commencement
LOCATION:Saratoga Performing Arts Center (SPAC)
UID:e.2254.1309
SEQUENCE:3
DTSTAMP:20260419T225215Z
URL:http://saratogatourism-gzcms.preview.gochambermaster.com/events/details/skidmore-college-commencement-05-21-2016-1309
END:VEVENT

END:VCALENDAR
