BEGIN:VCALENDAR
VERSION:2.0
PRODID:-//ChamberMaster//Event Calendar 2.0//EN
METHOD:PUBLISH
X-PUBLISHED-TTL:P3D
REFRESH-INTERVAL:P3D
CALSCALE:GREGORIAN
BEGIN:VEVENT
DTSTART:20150718T193000Z
DTEND:20150718T220000Z
X-MICROSOFT-CDO-ALLDAYEVENT:FALSE
SUMMARY:Skidmore Chamber Music Institute Music Marathon
DESCRIPTION:Skidmore Chamber Music Institute Music Marathon Featuring Decoda and institute participants. 3:30 p.m.- Arthur Zankel Music Center\, Ladd Hall Free and open to the public.. For more information call 518-580-5546
X-ALT-DESC;FMTTYPE=text/html:Skidmore Chamber Music Institute Music Marathon Featuring Decoda and institute participants. 3:30 p.m.- Arthur Zankel Music Center\, Ladd Hall Free and open to the public.. For more information call 518-580-5546
LOCATION:Arthur Zankel Music Center Skidmore College 815 N Broadway Saratoga Springs\, NY 12866
UID:e.2254.9757
SEQUENCE:3
DTSTAMP:20260423T052243Z
URL:http://saratogatourism-gzcms.preview.gochambermaster.com/events/details/skidmore-chamber-music-institute-music-marathon-07-18-2015-9757
END:VEVENT

END:VCALENDAR
