BEGIN:VCALENDAR
VERSION:2.0
PRODID:-//ChamberMaster//Event Calendar 2.0//EN
METHOD:PUBLISH
X-PUBLISHED-TTL:P3D
REFRESH-INTERVAL:P3D
CALSCALE:GREGORIAN
BEGIN:VEVENT
DTSTART:20150721T233000Z
DTEND:20150722T020000Z
X-MICROSOFT-CDO-ALLDAYEVENT:FALSE
SUMMARY:Skidmore Chamber Music Institute: Decoda Faculty Performance
DESCRIPTION:Skidmore Chamber Music Institute: Decoda Faculty Performance Decoda is a cutting-edge\, New York City-based chamber music collective that performs in communities around the globe. They believe that sparking personal connections between artists and audiences makes for great music. 7:30 p.m.-Arthur Zankel Music Center\, Ladd Hall $8 adults\, $5 senior citizens and Skidmore community\, free for students and children. For tickets go to www.skidmore.edu/Zankel For more information call 518-580-5321
X-ALT-DESC;FMTTYPE=text/html:Skidmore Chamber Music Institute: Decoda Faculty Performance Decoda is a cutting-edge\, New York City-based chamber music collective that performs in communities around the globe. They believe that sparking personal connections between artists and audiences makes for great music. 7:30 p.m.-Arthur Zankel Music Center\, Ladd Hall $8 adults\, $5 senior citizens and Skidmore community\, free for students and children. For tickets go to www.skidmore.edu/Zankel For more information call 518-580-5321
LOCATION:Arthur Zankel Music Center Skidmore College 815 N Broadway Saratoga Springs\, NY 12866
UID:e.2254.9763
SEQUENCE:3
DTSTAMP:20260423T033823Z
URL:http://saratogatourism-gzcms.preview.gochambermaster.com/events/details/skidmore-chamber-music-institute-decoda-faculty-performance-07-21-2015-9763
END:VEVENT

END:VCALENDAR
