BEGIN:VCALENDAR
VERSION:2.0
PRODID:-//ChamberMaster//Event Calendar 2.0//EN
METHOD:PUBLISH
X-PUBLISHED-TTL:P3D
REFRESH-INTERVAL:P3D
CALSCALE:GREGORIAN
BEGIN:VEVENT
DTSTART:20170402T130000Z
DTEND:20170402T200000Z
X-MICROSOFT-CDO-ALLDAYEVENT:FALSE
SUMMARY:Shaker Cat Head Basket with Barbara Boughton. #1041-0402. 1 day.
DESCRIPTION:Shaker tradition weaves together beauty and functionality. A classic example in basketry is the "cat head" base. When storing apples and the like in a round basket the center of the bottom will weaken over time. The Shakers wove four "feet" into the base of their round baskets\, which distributed the weight of its contents equally around the circumference before filling the center. From the bottom\, the "feet" look like two pairs of cat ears. This class will teach the cat head base and allow students to choose the width and height of their finished piece. Some weaving experience is helpful\, but not necessary. Dimensions are approximately 10-12" diameter\, 6" high.
X-ALT-DESC;FMTTYPE=text/html:<pre>\n<span style="font-size: 12pt\;"><span style="font-family: arial\,sans-serif\;"><span style="color: black\;">Shaker tradition weaves together beauty and functionality. A classic example in basketry is the &quot\;cat head&quot\; base. When storing apples and the like in a round basket the center of the bottom will weaken over time. The Shakers wove four &quot\;feet&quot\; into the base of their round baskets\, which distributed the weight of its contents equally around the circumference before filling the center. From the bottom\, the &quot\;feet&quot\; look like two pairs of cat ears. This class will teach the cat head base and allow students to choose the width and height of their finished piece. Some weaving experience is helpful\, but not necessary. Dimensions are approximately 10-12&quot\; diameter\, 6&quot\; high.</span></span></span></pre>\n
LOCATION:Adirondack Folk School 51 Main Street Lake Luzerne\, NY 12846
UID:e.2254.22801
SEQUENCE:3
DTSTAMP:20260420T035108Z
URL:http://saratogatourism-gzcms.preview.gochambermaster.com/events/details/shaker-cat-head-basket-with-barbara-boughton-1041-0402-1-day-22801
END:VEVENT

END:VCALENDAR
