BEGIN:VCALENDAR
VERSION:2.0
PRODID:-//ChamberMaster//Event Calendar 2.0//EN
METHOD:PUBLISH
X-PUBLISHED-TTL:P3D
REFRESH-INTERVAL:P3D
CALSCALE:GREGORIAN
BEGIN:VEVENT
DTSTART:20150507T213000Z
DTEND:20150508T003000Z
X-MICROSOFT-CDO-ALLDAYEVENT:FALSE
SUMMARY:Scrabble Team Challenge
DESCRIPTION:Join us for a fun-filled evening of friendly competition featuring thinking creatively\, stretching the rules\, and plotting--all for a great cause! Literacy New York Greater Capital Region will again host SCRABBLE  TEAM CHALLENGE. One can play as an individual or compete as a team. Tickets are $60 - individual with Corporate sponsorship levels - starting @ $600. Dinner included and an A-Z raffle too! Contact Deb Seifert (e) dseifert@literacynycap.org (p) 518-793-7414 for details and tickets.
X-ALT-DESC;FMTTYPE=text/html:Join us for a fun-filled evening of friendly competition featuring thinking creatively\, stretching the rules\, and plotting--all for a great cause! Literacy New York Greater Capital Region will again host SCRABBLE&reg\; TEAM CHALLENGE. One can play as an individual or compete as a team. Tickets are $60 - individual with Corporate sponsorship levels - starting @ $600. Dinner included and an A-Z raffle too! Contact Deb Seifert (e) dseifert@literacynycap.org (p) 518-793-7414 for details and tickets.
LOCATION:The Tower Cafe 333 Glen Street\, Glens Falls\, NY 12801
UID:e.2254.6673
SEQUENCE:3
DTSTAMP:20260423T194943Z
URL:http://saratogatourism-gzcms.preview.gochambermaster.com/events/details/scrabble-team-challenge-05-07-2015-6673
END:VEVENT

END:VCALENDAR
