BEGIN:VCALENDAR
VERSION:2.0
PRODID:-//ChamberMaster//Event Calendar 2.0//EN
METHOD:PUBLISH
X-PUBLISHED-TTL:P3D
REFRESH-INTERVAL:P3D
CALSCALE:GREGORIAN
BEGIN:VEVENT
DTSTART:20160504T220000Z
DTEND:20160505T010000Z
X-MICROSOFT-CDO-ALLDAYEVENT:FALSE
SUMMARY:SCCCMH Mental Health Matters Benifit
DESCRIPTION:Laurie Nelson\, previous Deputy Director at Transional Services Assocatoin\, will be honored at the 2016 Citizen of the Year at this year's Annual Dinner\, "SCCCMH Mental Health Matters Benefit\," May 4\, 2016 at 6:00 pm at Longfellows Restaurant. The SCCCMH annual benefits helps raise funds for SCCCMH's Program Development and Enrichment: The SCCCMH awards grants\, usually up to $1\,000\, to agencies and programs in Saratoga County so they can enrich existing programs or expand services for people with mental illness. Please visit our website for registration informaotin.
X-ALT-DESC;FMTTYPE=text/html:Laurie Nelson\, previous Deputy Director at Transional Services Assocatoin\, will be honored at the 2016 Citizen of the Year at this year&rsquo\;s Annual Dinner\, &ldquo\;SCCCMH Mental Health Matters Benefit\,&quot\; May 4\, 2016 at 6:00 pm at Longfellows Restaurant. The SCCCMH annual benefits helps raise funds for SCCCMH&#39\;s&nbsp\;Program Development and Enrichment: The&nbsp\;SCCCMH awards grants\, usually up to $1\,000\, to agencies and programs in Saratoga County so they can enrich existing programs or expand services for people with mental illness. Please visit our website for registration informaotin.&nbsp\;
LOCATION:Longfellows Restaruant
UID:e.2254.16394
SEQUENCE:3
DTSTAMP:20260421T181625Z
URL:http://saratogatourism-gzcms.preview.gochambermaster.com/events/details/scccmh-mental-health-matters-benifit-05-04-2016-16394
END:VEVENT

END:VCALENDAR
