BEGIN:VCALENDAR
VERSION:2.0
PRODID:-//ChamberMaster//Event Calendar 2.0//EN
METHOD:PUBLISH
X-PUBLISHED-TTL:P3D
REFRESH-INTERVAL:P3D
CALSCALE:GREGORIAN
BEGIN:VEVENT
DTSTART:20150721T140000Z
DTEND:20150722T010000Z
X-MICROSOFT-CDO-ALLDAYEVENT:FALSE
SUMMARY:"Saratoga Tuesdays"
DESCRIPTION:"Saratoga Tuesdays" is a day of family activities to include international cooking classes\, lectures & hands on workshops\, Saratoga history around town\, dance lessons\, Chinese culture\, language and song\, community singing and more. Come drop in to see all that is happening from 10 am to 9 pm\, every Tuesday throughout the summer. Please call our office 518-584-6301 for specific class times and more information or email doris.segrave@gmail.com with any questions. If possible\,we do ask you make a reservation for lunch so we know how much food to cook\, but walk ins are always welcome. For further information please visit our website at:\n\nwww.firstbaptistsaratogasprings.org/
X-ALT-DESC;FMTTYPE=text/html:<strong>&quot\;Saratoga Tuesdays</strong>&quot\; is a day of&nbsp\;family activities to include international cooking classes\, lectures &amp\; hands on workshops\, Saratoga history around town\,&nbsp\;dance lessons\, Chinese culture\, language and song\, community&nbsp\;singing and more. Come drop in to see all that is happening from&nbsp\;10 am to 9 pm\, every Tuesday throughout the summer. Please&nbsp\;call our office 518-584-6301 for specific class times and more information or email <a href="mailto:doris.segrave@gmail.com">doris.segrave@gmail.com</a>&nbsp\;with any questions. If possible\,we do ask you make a reservation for lunch so we know how much food to cook\, but walk ins are always welcome. For further information please visit our website at:<br />\n<a href="http://www.firstbaptistsaratogasprings.org/">www.firstbaptistsaratogasprings.org/</a>
LOCATION:First Baptist Church\, 45 Washington Street\, Saratoga Springs\, New York
UID:e.2254.10124
SEQUENCE:3
DTSTAMP:20260423T033800Z
URL:http://saratogatourism-gzcms.preview.gochambermaster.com/events/details/saratoga-tuesdays-07-21-2015-10124
END:VEVENT

END:VCALENDAR
