BEGIN:VCALENDAR
VERSION:2.0
PRODID:-//ChamberMaster//Event Calendar 2.0//EN
METHOD:PUBLISH
X-PUBLISHED-TTL:P3D
REFRESH-INTERVAL:P3D
CALSCALE:GREGORIAN
BEGIN:VEVENT
DTSTART;VALUE=DATE:20150412
DTEND;VALUE=DATE:20150413
TRANSP:TRANSPARENT
X-MICROSOFT-CDO-ALLDAYEVENT:TRUE
SUMMARY:Saratoga Tattoo Expo 2015
DESCRIPTION:Saratoga Tattoo Expo.
X-ALT-DESC;FMTTYPE=text/html:<p>Saratoga Tattoo Expo.</p>\n
LOCATION:522 Broadway\, Saratoga City Center
UID:e.2254.5797
SEQUENCE:3
DTSTAMP:20260423T182108Z
URL:http://saratogatourism-gzcms.preview.gochambermaster.com/events/details/saratoga-tattoo-expo-2015-04-12-2015-5797
END:VEVENT

END:VCALENDAR
